BEGIN:VCALENDAR
VERSION:2.0
PRODID:-//Platte County Public Library Systems - ECPv6.8.3//NONSGML v1.0//EN
CALSCALE:GREGORIAN
METHOD:PUBLISH
X-WR-CALNAME:Platte County Public Library Systems
X-ORIGINAL-URL:https://plattecountylibrary.org
X-WR-CALDESC:Events for Platte County Public Library Systems
REFRESH-INTERVAL;VALUE=DURATION:PT1H
X-Robots-Tag:noindex
X-PUBLISHED-TTL:PT1H
BEGIN:VTIMEZONE
TZID:America/Denver
BEGIN:DAYLIGHT
TZOFFSETFROM:-0700
TZOFFSETTO:-0600
TZNAME:MDT
DTSTART:20240310T090000
END:DAYLIGHT
BEGIN:STANDARD
TZOFFSETFROM:-0600
TZOFFSETTO:-0700
TZNAME:MST
DTSTART:20241103T080000
END:STANDARD
END:VTIMEZONE
BEGIN:VEVENT
DTSTART;TZID=America/Denver:20240917T103000
DTEND;TZID=America/Denver:20240917T110000
DTSTAMP:20260423T041808
CREATED:20240824T213247Z
LAST-MODIFIED:20240825T020019Z
UID:1780-1726569000-1726570800@plattecountylibrary.org
SUMMARY:Storytime with Haley
DESCRIPTION:
URL:https://plattecountylibrary.org/event/storytime-with-haley/
LOCATION:Platte County Public Library\, 904 9th street\, Wheatland\, WY\, 82201\, United States
END:VEVENT
END:VCALENDAR