BEGIN:VCALENDAR
VERSION:2.0
PRODID:-//Platte County Public Library Systems - ECPv6.8.3//NONSGML v1.0//EN
CALSCALE:GREGORIAN
METHOD:PUBLISH
X-WR-CALNAME:Platte County Public Library Systems
X-ORIGINAL-URL:https://plattecountylibrary.org
X-WR-CALDESC:Events for Platte County Public Library Systems
REFRESH-INTERVAL;VALUE=DURATION:PT1H
X-Robots-Tag:noindex
X-PUBLISHED-TTL:PT1H
BEGIN:VTIMEZONE
TZID:UTC
BEGIN:STANDARD
TZOFFSETFROM:+0000
TZOFFSETTO:+0000
TZNAME:UTC
DTSTART:20240101T000000
END:STANDARD
END:VTIMEZONE
BEGIN:VEVENT
DTSTART;TZID=UTC:20241001T103000
DTEND;TZID=UTC:20241001T110000
DTSTAMP:20260425T093355
CREATED:20240825T010925Z
LAST-MODIFIED:20240825T015901Z
UID:1805-1727778600-1727780400@plattecountylibrary.org
SUMMARY:Storytime with Haley
DESCRIPTION:
URL:https://plattecountylibrary.org/event/storytime-with-haley-3/
LOCATION:Platte County Public Library\, 904 9th street\, Wheatland\, WY\, 82201\, United States
END:VEVENT
BEGIN:VEVENT
DTSTART;TZID=UTC:20241008T103000
DTEND;TZID=UTC:20241008T110000
DTSTAMP:20260425T093355
CREATED:20240825T011023Z
LAST-MODIFIED:20240825T015846Z
UID:1806-1728383400-1728385200@plattecountylibrary.org
SUMMARY:Storytime with Haley
DESCRIPTION:
URL:https://plattecountylibrary.org/event/storytime-with-haley-4/
LOCATION:Platte County Public Library\, 904 9th street\, Wheatland\, WY\, 82201\, United States
END:VEVENT
BEGIN:VEVENT
DTSTART;TZID=UTC:20241012T103000
DTEND;TZID=UTC:20241012T120000
DTSTAMP:20260425T093355
CREATED:20240825T015423Z
LAST-MODIFIED:20240825T015423Z
UID:1813-1728729000-1728734400@plattecountylibrary.org
SUMMARY:Money\, Mommy\, and Me
DESCRIPTION:Rich Kid\, Smart Kid(Part 2):\nNurturing moms\, creating community\, and empowering generations through financial literacy. \nJoin Integrated Financial every second Saturday. \nLocated downstairs at the Platte County Public Library. Free childcare is provided!
URL:https://plattecountylibrary.org/event/money-mommy-and-me-2/
LOCATION:Platte County Public Library\, 904 9th street\, Wheatland\, WY\, 82201\, United States
ORGANIZER;CN="Integrated Financial":MAILTO:kjones@integratedfinancial.life
END:VEVENT
BEGIN:VEVENT
DTSTART;TZID=UTC:20241015T103000
DTEND;TZID=UTC:20241015T110000
DTSTAMP:20260425T093355
CREATED:20240825T011145Z
LAST-MODIFIED:20240825T015833Z
UID:1807-1728988200-1728990000@plattecountylibrary.org
SUMMARY:Storytime with Haley
DESCRIPTION:
URL:https://plattecountylibrary.org/event/storytime-with-haley-5/
LOCATION:Platte County Public Library\, 904 9th street\, Wheatland\, WY\, 82201\, United States
END:VEVENT
END:VCALENDAR